BEGIN:VCALENDAR
VERSION:2.0
PRODID:-//hacksw/handcal//NONSGML v1.0//EN
BEGIN:VEVENT
SUMMARY:Ouverture saison 2026
UID:7abb6581-e379-49d5-b53c-2876e5a9175b
DTSTART:20260506T113000Z
DTEND:20260704T130000Z
LOCATION:Piscine 6186 Rue du Maquis, 46200 Souillac 46200 souillac
CATEGORIES:Entrainement
STATUS:
DESCRIPTION:<h1>Ouverture de la saison 2026</h1>
 
 <h2>Reprise des
 entrainements "Hors saison"</h2>
 
 <h2>Les mecredis et samedis de 13 h
 30 a 15 h 00</h2>
 
 <p> </p>
URL;VALUE=URI:https://www.espadonsouillacnatation.fr/evenements/2026/05/06/ouverture-saison-2026-2412033
END:VEVENT
END:VCALENDAR
