BEGIN:VCALENDAR
VERSION:2.0
PRODID:-//hacksw/handcal//NONSGML v1.0//EN
BEGIN:VEVENT
SUMMARY:championnat interdepartemental # 3 - CAHORS
UID:d5f46df7-78c5-4b21-8c5f-afd270a25773
DTSTART:20260613T063000Z
DTEND:20260614T220000Z
LOCATION:Localisation 155 rue de la guinguette 46000 cahors
CATEGORIES:Manifestation
STATUS:
DESCRIPTION:<p>Competition preparative a la saison estivale.
 Rencontre avec des clubs anuels des departements du Tarn et du
 Tarn-et-Garonne.</p>
 
 <p>Le programme de la competition </p>
 
 <p><a
 href="https://www.espadonsouillacnatation.fr/documents/championnat-interdep-3-cahors-445731"
 target="_blank" rel="noreferrer noopener">Championnat
 interdepartemental 3</a></p>
URL;VALUE=URI:https://www.espadonsouillacnatation.fr/evenements/2026/06/13/championnat-interdepartemental-3-cahors-2441151
END:VEVENT
END:VCALENDAR
